BEGIN:VCALENDAR
VERSION:2.0
PRODID:-//The Astronomical Society of the Palm Beaches - ECPv6.15.20//NONSGML v1.0//EN
CALSCALE:GREGORIAN
METHOD:PUBLISH
X-WR-CALNAME:The Astronomical Society of the Palm Beaches
X-ORIGINAL-URL:https://astropalmbeach.org
X-WR-CALDESC:Events for The Astronomical Society of the Palm Beaches
REFRESH-INTERVAL;VALUE=DURATION:PT1H
X-Robots-Tag:noindex
X-PUBLISHED-TTL:PT1H
BEGIN:VTIMEZONE
TZID:America/New_York
BEGIN:DAYLIGHT
TZOFFSETFROM:-0500
TZOFFSETTO:-0400
TZNAME:EDT
DTSTART:20250309T070000
END:DAYLIGHT
BEGIN:STANDARD
TZOFFSETFROM:-0400
TZOFFSETTO:-0500
TZNAME:EST
DTSTART:20251102T060000
END:STANDARD
BEGIN:DAYLIGHT
TZOFFSETFROM:-0500
TZOFFSETTO:-0400
TZNAME:EDT
DTSTART:20260308T070000
END:DAYLIGHT
BEGIN:STANDARD
TZOFFSETFROM:-0400
TZOFFSETTO:-0500
TZNAME:EST
DTSTART:20261101T060000
END:STANDARD
BEGIN:DAYLIGHT
TZOFFSETFROM:-0500
TZOFFSETTO:-0400
TZNAME:EDT
DTSTART:20270314T070000
END:DAYLIGHT
BEGIN:STANDARD
TZOFFSETFROM:-0400
TZOFFSETTO:-0500
TZNAME:EST
DTSTART:20271107T060000
END:STANDARD
END:VTIMEZONE
BEGIN:VEVENT
DTSTART;TZID=America/New_York:20260603T193000
DTEND;TZID=America/New_York:20260603T213000
DTSTAMP:20260423T095418
CREATED:20250731T030031Z
LAST-MODIFIED:20260413T014658Z
UID:15261-1780515000-1780522200@astropalmbeach.org
SUMMARY:ASPB Monthly Club Meeting
DESCRIPTION:Presentation: “Galaxy Clusters and Gravitational Lensing” By Dr. Rutuparna Das\, Astrophysicist\, By Zoom
URL:https://astropalmbeach.org/event/aspb-monthly-club-meeting-3/
LOCATION:Cox Science Center & Aquarium – STEM Center\, 4801 Dreher Trail N\, West Palm Beach\, FL\, 33405\, United States
CATEGORIES:Club Meeting
END:VEVENT
END:VCALENDAR