BEGIN:VCALENDAR
VERSION:2.0
PRODID:-//The Astronomical Society of the Palm Beaches - ECPv6.15.20//NONSGML v1.0//EN
CALSCALE:GREGORIAN
METHOD:PUBLISH
X-WR-CALNAME:The Astronomical Society of the Palm Beaches
X-ORIGINAL-URL:https://astropalmbeach.org
X-WR-CALDESC:Events for The Astronomical Society of the Palm Beaches
REFRESH-INTERVAL;VALUE=DURATION:PT1H
X-Robots-Tag:noindex
X-PUBLISHED-TTL:PT1H
BEGIN:VTIMEZONE
TZID:America/New_York
BEGIN:DAYLIGHT
TZOFFSETFROM:-0500
TZOFFSETTO:-0400
TZNAME:EDT
DTSTART:20240310T070000
END:DAYLIGHT
BEGIN:STANDARD
TZOFFSETFROM:-0400
TZOFFSETTO:-0500
TZNAME:EST
DTSTART:20241103T060000
END:STANDARD
BEGIN:DAYLIGHT
TZOFFSETFROM:-0500
TZOFFSETTO:-0400
TZNAME:EDT
DTSTART:20250309T070000
END:DAYLIGHT
BEGIN:STANDARD
TZOFFSETFROM:-0400
TZOFFSETTO:-0500
TZNAME:EST
DTSTART:20251102T060000
END:STANDARD
BEGIN:DAYLIGHT
TZOFFSETFROM:-0500
TZOFFSETTO:-0400
TZNAME:EDT
DTSTART:20260308T070000
END:DAYLIGHT
BEGIN:STANDARD
TZOFFSETFROM:-0400
TZOFFSETTO:-0500
TZNAME:EST
DTSTART:20261101T060000
END:STANDARD
BEGIN:DAYLIGHT
TZOFFSETFROM:-0500
TZOFFSETTO:-0400
TZNAME:EDT
DTSTART:20270314T070000
END:DAYLIGHT
BEGIN:STANDARD
TZOFFSETFROM:-0400
TZOFFSETTO:-0500
TZNAME:EST
DTSTART:20271107T060000
END:STANDARD
END:VTIMEZONE
BEGIN:VEVENT
DTSTART;TZID=America/New_York:20260219T180000
DTEND;TZID=America/New_York:20260219T200000
DTSTAMP:20260423T061918
CREATED:20250922T195838Z
LAST-MODIFIED:20250922T195838Z
UID:15324-1771524000-1771531200@astropalmbeach.org
SUMMARY:Jupiter Branch Library Viewing and Presentation
DESCRIPTION:Jupiter Branch Library will host the ASPB for a presentation and observing session. The Moon and Jupiter will be up for grabs.  \n 
URL:https://astropalmbeach.org/event/jupiter-branch-library-viewing-and-presentation-3/
LOCATION:FL
CATEGORIES:Outreach Event
END:VEVENT
BEGIN:VEVENT
DTSTART;TZID=America/New_York:20260219T120000
DTEND;TZID=America/New_York:20260223T120000
DTSTAMP:20260423T061918
CREATED:20260203T043748Z
LAST-MODIFIED:20260203T043748Z
UID:15410-1771502400-1771848000@astropalmbeach.org
SUMMARY:Stargaze 2026
DESCRIPTION:Venus\, FL Stargaze Weekend \nPlease register by 2/11/26.\nStargaze Rules and App
URL:https://astropalmbeach.org/event/stargaze-2026-2/
LOCATION:FL
CATEGORIES:Observing Session,Social Event
END:VEVENT
BEGIN:VEVENT
DTSTART;TZID=America/New_York:20260211T183000
DTEND;TZID=America/New_York:20260211T203000
DTSTAMP:20260423T061918
CREATED:20251119T211238Z
LAST-MODIFIED:20251119T211252Z
UID:15354-1770834600-1770841800@astropalmbeach.org
SUMMARY:Acreage Branch Library Public Viewing
DESCRIPTION:
URL:https://astropalmbeach.org/event/acreage-branch-library-public-viewing/
LOCATION:Acreage Branch Library\, 15801 Orange Blvd.\, Loxahatchee\, FL\, 33470\, United States
CATEGORIES:Outreach Event
END:VEVENT
BEGIN:VEVENT
DTSTART;TZID=America/New_York:20260131T130000
DTEND;TZID=America/New_York:20260131T183000
DTSTAMP:20260423T061918
CREATED:20251210T054831Z
LAST-MODIFIED:20251210T054831Z
UID:15369-1769864400-1769884200@astropalmbeach.org
SUMMARY:Winding Waters Natural Areas Festival
DESCRIPTION:ASPB will be an exhibitor! Solar viewing and some early evening observing will be provided\, weather permitting. \nWe will have a booth and pass out goodies. Please stop by and say hello! \nFestival Flyer
URL:https://astropalmbeach.org/event/winding-waters-natural-areas-festival/
LOCATION:Winding Waters Natural Area\, 6161 Haverhill Road N\, WEST PALM BEACH\, FL\, United States
CATEGORIES:Outreach Event
END:VEVENT
BEGIN:VEVENT
DTSTART;TZID=America/New_York:20260129T180000
DTEND;TZID=America/New_York:20260129T193000
DTSTAMP:20260423T061918
CREATED:20250922T195336Z
LAST-MODIFIED:20260129T182014Z
UID:15322-1769709600-1769715000@astropalmbeach.org
SUMMARY:Jupiter Branch Library Viewing and Presentation
DESCRIPTION:Jupiter Branch Library will host the ASPB for a presentation and observing session. The Moon and Jupiter will be center stage.
URL:https://astropalmbeach.org/event/jupiter-branch-library-viewing-and-presentation-2/
LOCATION:Jupiter Branch Library\, 705 Military Trail\, Jupiter\, FL\, 33477\, United States
CATEGORIES:Outreach Event
END:VEVENT
BEGIN:VEVENT
DTSTART;TZID=America/New_York:20260126T183000
DTEND;TZID=America/New_York:20260126T200000
DTSTAMP:20260423T061918
CREATED:20260115T060054Z
LAST-MODIFIED:20260115T060054Z
UID:15390-1769452200-1769457600@astropalmbeach.org
SUMMARY:City of Boynton Beach Library Viewing
DESCRIPTION:Telescope viewing of Jupiter and the Moon.
URL:https://astropalmbeach.org/event/city-of-boynton-beach-library-viewing/
LOCATION:Boynton Beach Library\, 100 E Ocean Avenue\, Boynton Beach\, FL\, 33435\, United States
CATEGORIES:Outreach Event
END:VEVENT
BEGIN:VEVENT
DTSTART;TZID=America/New_York:20260122T180000
DTEND;TZID=America/New_York:20260122T200000
DTSTAMP:20260423T061918
CREATED:20250922T195050Z
LAST-MODIFIED:20250922T195050Z
UID:15319-1769104800-1769112000@astropalmbeach.org
SUMMARY:Jupiter Branch Library Viewing and Presentation
DESCRIPTION:Jupiter Branch Library will host the ASPB for a presentation and observing session. The Moon will be center stage.
URL:https://astropalmbeach.org/event/jupiter-branch-library-viewing-and-presentation/
LOCATION:Jupiter Branch Library\, 705 Military Trail\, Jupiter\, FL\, 33477\, United States
CATEGORIES:Outreach Event
END:VEVENT
BEGIN:VEVENT
DTSTART;TZID=America/New_York:20260117T173000
DTEND;TZID=America/New_York:20260117T233000
DTSTAMP:20260423T061918
CREATED:20241001T175313Z
LAST-MODIFIED:20251124T033759Z
UID:9387-1768671000-1768692600@astropalmbeach.org
SUMMARY:Dark Sky Saturday Observing - Members Only
DESCRIPTION: 
URL:https://astropalmbeach.org/event/dark-natural-area-observing-members-only/
LOCATION:FL
CATEGORIES:Observing Session
END:VEVENT
BEGIN:VEVENT
DTSTART;TZID=America/New_York:20260114T183000
DTEND;TZID=America/New_York:20260114T210000
DTSTAMP:20260423T061918
CREATED:20251115T052115Z
LAST-MODIFIED:20251115T052115Z
UID:15351-1768415400-1768424400@astropalmbeach.org
SUMMARY:Acreage Branch Library Public Observing
DESCRIPTION:
URL:https://astropalmbeach.org/event/acreage-branch-library-public-observing/
LOCATION:Acreage Branch Library\, 15801 Orange Blvd.\, Loxahatchee\, FL\, 33470\, United States
CATEGORIES:Outreach Event
END:VEVENT
BEGIN:VEVENT
DTSTART;TZID=America/New_York:20251219T170000
DTEND;TZID=America/New_York:20251219T233000
DTSTAMP:20260423T061918
CREATED:20250122T042119Z
LAST-MODIFIED:20251025T054231Z
UID:15158-1766163600-1766187000@astropalmbeach.org
SUMMARY:Dark Sky Friday Observing - Members Only
DESCRIPTION:
URL:https://astropalmbeach.org/event/dark-sky-friday-observing-members-only/
LOCATION:FL
CATEGORIES:Observing Session
END:VEVENT
BEGIN:VEVENT
DTSTART;TZID=America/New_York:20251218T180000
DTEND;TZID=America/New_York:20251218T200000
DTSTAMP:20260423T061918
CREATED:20250911T043142Z
LAST-MODIFIED:20251211T182504Z
UID:15313-1766080800-1766088000@astropalmbeach.org
SUMMARY:Jupiter Branch Library Viewing & Presentation
DESCRIPTION:Jupiter Branch Library will host the ASPB for a “Tour the Fall Heavens” presentation and observing session. Saturn will be center stage. Please register at the Jupiter Branch Library Website
URL:https://astropalmbeach.org/event/jupiter-branch-library-viewing-presentation-2/
LOCATION:Jupiter Branch Library\, 705 Military Trail\, Jupiter\, FL\, 33477\, United States
CATEGORIES:Outreach Event
END:VEVENT
BEGIN:VEVENT
DTSTART;TZID=America/New_York:20251212T170000
DTEND;TZID=America/New_York:20251212T233000
DTSTAMP:20260423T061918
CREATED:20250418T003557Z
LAST-MODIFIED:20250922T194131Z
UID:15217-1765558800-1765582200@astropalmbeach.org
SUMMARY:Dark Sky Friday Observing - Members Only
DESCRIPTION:
URL:https://astropalmbeach.org/event/dark-sky-friday-observing-members-only-3/
LOCATION:FL
CATEGORIES:Observing Session
END:VEVENT
BEGIN:VEVENT
DTSTART;TZID=America/New_York:20251210T183000
DTEND;TZID=America/New_York:20251210T203000
DTSTAMP:20260423T061918
CREATED:20251026T192130Z
LAST-MODIFIED:20251115T051652Z
UID:15340-1765391400-1765398600@astropalmbeach.org
SUMMARY:Acreage Branch Library Public Viewing
DESCRIPTION:
URL:https://astropalmbeach.org/event/acreage-branch-library-viewing/
LOCATION:Acreage Branch Library\, 15801 Orange Blvd.\, Loxahatchee\, FL\, 33470\, United States
CATEGORIES:Outreach Event
END:VEVENT
BEGIN:VEVENT
DTSTART;TZID=America/New_York:20251105T190000
DTEND;TZID=America/New_York:20251105T210000
DTSTAMP:20260423T061918
CREATED:20250731T023949Z
LAST-MODIFIED:20250826T025329Z
UID:15258-1762369200-1762376400@astropalmbeach.org
SUMMARY:ASPB Monthly Club Meeting
DESCRIPTION:Presentation: “The Jimmy Buffet Estate Telescope Donation” Stories and Memories by Darin Hinson
URL:https://astropalmbeach.org/event/aspb-monthly-club-meeting-2/
LOCATION:Cox Science Center & Aquarium – STEM Center\, 4801 Dreher Trail N\, West Palm Beach\, FL\, 33405\, United States
CATEGORIES:Club Meeting
END:VEVENT
BEGIN:VEVENT
DTSTART;TZID=America/New_York:20251030T180000
DTEND;TZID=America/New_York:20251030T200000
DTSTAMP:20260423T061918
CREATED:20250911T042728Z
LAST-MODIFIED:20250911T044548Z
UID:15308-1761847200-1761854400@astropalmbeach.org
SUMMARY:Jupiter Branch Library Viewing & Presentation
DESCRIPTION:Jupiter Branch Library will host the ASPB for a presentation and observing. The Moon and Saturn will be center stage.
URL:https://astropalmbeach.org/event/jupiter-branch-library-viewing-presentation/
LOCATION:Jupiter Branch Library\, 705 Military Trail\, Jupiter\, FL\, 33477\, United States
CATEGORIES:Outreach Event
END:VEVENT
END:VCALENDAR